BEGIN:VCALENDAR
VERSION:2.0
PRODID:-//hacksw/handcal//NONSGML v1.0//EN
BEGIN:VEVENT
SUMMARY:Randonnee du Muguet
UID:3b35d9eb-2e91-43cb-846e-3ced0c0f3605
DTSTART:20260430T220000Z
DTEND:20260501T220000Z
LOCATION:Localisation   
CATEGORIES:Sportif
STATUS:
DESCRIPTION:<p style="text-align:center;"><span
 style="font-size:26px;">Randonnee du Muguet organisee par les
 Godillots le 1er Mai 2026</span></p>
 
 <p
 style="text-align:center;"><span style="font-size:26px;">3 circuits
 de 8 km,15 km et 25 km</span></p>
 
 <p
 style="text-align:center;"><span style="font-size:26px;">Inscriptions
 a partir de 6h30 a la salle Gregory Lemarchal de
 Bonneval</span></p>
 
 <p style="text-align:center;"><span
 style="font-size:26px;">Depart libre de 7h00 a 10h00 pour tous les
 parcours<br>
 Fin de la randonnee pour tous a 13h00</span></p>
 
 <p
 style="text-align:center;"><span style="font-size:26px;">Pensez a
 apporter votre gobelet</span></p>
URL;VALUE=URI:https://lesgodillots.sportsregions.fr/evenements/2026/05/01/randonnee-du-muguet-2434893
END:VEVENT
END:VCALENDAR
